BEGIN:VCALENDAR
VERSION:2.0
PRODID:-//Embodied Directions - ECPv6.15.17.1//NONSGML v1.0//EN
CALSCALE:GREGORIAN
METHOD:PUBLISH
X-WR-CALNAME:Embodied Directions
X-ORIGINAL-URL:https://embodieddirections.com
X-WR-CALDESC:Events for Embodied Directions
REFRESH-INTERVAL;VALUE=DURATION:PT1H
X-Robots-Tag:noindex
X-PUBLISHED-TTL:PT1H
BEGIN:VTIMEZONE
TZID:America/New_York
BEGIN:DAYLIGHT
TZOFFSETFROM:-0500
TZOFFSETTO:-0400
TZNAME:EDT
DTSTART:20250309T070000
END:DAYLIGHT
BEGIN:STANDARD
TZOFFSETFROM:-0400
TZOFFSETTO:-0500
TZNAME:EST
DTSTART:20251102T060000
END:STANDARD
BEGIN:DAYLIGHT
TZOFFSETFROM:-0500
TZOFFSETTO:-0400
TZNAME:EDT
DTSTART:20260308T070000
END:DAYLIGHT
BEGIN:STANDARD
TZOFFSETFROM:-0400
TZOFFSETTO:-0500
TZNAME:EST
DTSTART:20261101T060000
END:STANDARD
BEGIN:DAYLIGHT
TZOFFSETFROM:-0500
TZOFFSETTO:-0400
TZNAME:EDT
DTSTART:20270314T070000
END:DAYLIGHT
BEGIN:STANDARD
TZOFFSETFROM:-0400
TZOFFSETTO:-0500
TZNAME:EST
DTSTART:20271107T060000
END:STANDARD
END:VTIMEZONE
BEGIN:VEVENT
DTSTART;TZID=America/New_York:20260306T183000
DTEND;TZID=America/New_York:20260306T194500
DTSTAMP:20260421T081750
CREATED:20260228T210821Z
LAST-MODIFIED:20260228T211220Z
UID:5107-1772821800-1772826300@embodieddirections.com
SUMMARY:From Holding To Healing: Where Love Remains and Healing Begins
DESCRIPTION:This special event combining Meditation & Reiki for Grief Release is a compassionate space to gently meet the tender landscapes of grief. Through guided meditation\, you are supported in safely connecting with the emotions\, memories\, and sensations that grief may hold in the body. Reiki energy healing then offers soothing support to the nervous system\, helping soften areas of emotional holding and invite a sense of deep rest.
URL:https://embodieddirections.com/event/from-holding-to-healing-where-love-remains-and-healing-begins/
LOCATION:Embodied Directions Wellness Sanctuary\, 5 Hanson St.\, Dover\, NH\, 03820\, United States
CATEGORIES:Event
ATTACH;FMTTYPE=image/png:https://assets.simard.solutions/embodieddirections.com/2026/02/Workshop-Where-Love-Remains-and-Healing-Begins.png
END:VEVENT
BEGIN:VEVENT
DTSTART;TZID=America/New_York:20260315T183000
DTEND;TZID=America/New_York:20260315T193000
DTSTAMP:20260421T081750
CREATED:20260304T132456Z
LAST-MODIFIED:20260304T132456Z
UID:5130-1773599400-1773603000@embodieddirections.com
SUMMARY:Pieces New Moon Gathering
DESCRIPTION:Ruth and Amber of Serenity Rising Healing are back guiding us through this month’s new moon in Pisces. Together we will experience the energy of the season through physical movement\, guided meditation\, and Reiki\, before setting intentions for the month ahead.
URL:https://embodieddirections.com/event/pieces-new-moon-gathering/
LOCATION:Embodied Directions Wellness Sanctuary\, 5 Hanson St.\, Dover\, NH\, 03820\, United States
CATEGORIES:Event
ATTACH;FMTTYPE=image/png:https://assets.simard.solutions/embodieddirections.com/2026/03/new-moon-pieces.png
END:VEVENT
BEGIN:VEVENT
DTSTART;TZID=America/New_York:20260320T193000
DTEND;TZID=America/New_York:20260320T203000
DTSTAMP:20260421T081750
CREATED:20260228T212141Z
LAST-MODIFIED:20260228T212141Z
UID:5115-1774035000-1774038600@embodieddirections.com
SUMMARY:Tending to Your Inner Garden: Yoga Nidra
DESCRIPTION:Join us for a Spring Equinox Yoga Nidra that honors the steadiness of your roots while welcoming the gentle bloom of what’s ready to emerge. We’ll settle into grounding through the back of the body\, creating a sense of safety\, belonging\, and support\, while inviting the front of the body to open into warmth\, hope\, and new growth. This is a restful\, nurturing space to relax\, reconnect\, and softly come back to yourself as the season turns toward light. \nParticipants are encouraged to wear comfortable clothing and bring a journal for optional personal reflection.
URL:https://embodieddirections.com/event/tending-to-your-inner-garden-yoga-nidra/
LOCATION:Embodied Directions Wellness Sanctuary\, 5 Hanson St.\, Dover\, NH\, 03820\, United States
CATEGORIES:Event
ATTACH;FMTTYPE=image/png:https://assets.simard.solutions/embodieddirections.com/2026/02/Spring-Equinox-Yoga-Nidra.png
END:VEVENT
BEGIN:VEVENT
DTSTART;TZID=America/New_York:20260323T080000
DTEND;TZID=America/New_York:20260323T170000
DTSTAMP:20260421T081750
CREATED:20260323T233648Z
LAST-MODIFIED:20260323T233648Z
UID:5142-1774252800-1774285200@embodieddirections.com
SUMMARY:Regulated & Rising Yoga Nidra
DESCRIPTION:During this Yoga Nidra\, your nervous system will be supported\, safe\, and free to expand. Just like a petal slowly opening toward the sun\, you can rise without strain. \nExpansion and regulation happen together — one nourishes the other.
URL:https://embodieddirections.com/event/regulated-rising-yoga-nidra/
LOCATION:Embodied Directions Wellness Sanctuary\, 5 Hanson St.\, Dover\, NH\, 03820\, United States
CATEGORIES:Class
ATTACH;FMTTYPE=image/png:https://assets.simard.solutions/embodieddirections.com/2026/03/Regulated-and-Rising-April-Yoga-Nidra-Instagram-Post-.png
END:VEVENT
BEGIN:VEVENT
DTSTART;TZID=America/New_York:20260323T080000
DTEND;TZID=America/New_York:20260323T170000
DTSTAMP:20260421T081750
CREATED:20260323T234058Z
LAST-MODIFIED:20260323T234058Z
UID:5147-1774252800-1774285200@embodieddirections.com
SUMMARY:Paper Portraits: Collage Your Cutie!
DESCRIPTION:Join local artist Haley Searcy for a playful\, one-night workshop creating paper portraits of your loved one! Bring a partner or pal and spend the evening making one-of-a-kind portraits of each other using multimedia collage materials like magazines\, scrapbooking paper\, washi tape\, and more. \nNo art experience necessary! This all about having fun and exploring creativity together. All supplies are included\, though you’re welcome to bring any favorite materials or tools of your own. \nRegistration is per person\, so be sure each of you signs up if you’re planning to attend together.
URL:https://embodieddirections.com/event/paper-portraits-collage-your-cutie/
LOCATION:Embodied Directions Wellness Sanctuary\, 5 Hanson St.\, Dover\, NH\, 03820\, United States
CATEGORIES:Workshop
ATTACH;FMTTYPE=image/png:https://assets.simard.solutions/embodieddirections.com/2026/03/Collage-Your-Cuite.png
END:VEVENT
BEGIN:VEVENT
DTSTART;TZID=America/New_York:20260327T193000
DTEND;TZID=America/New_York:20260327T204500
DTSTAMP:20260421T081750
CREATED:20260228T212936Z
LAST-MODIFIED:20260228T213115Z
UID:5119-1774639800-1774644300@embodieddirections.com
SUMMARY:Sacred Rest
DESCRIPTION:An evening women’s practice (open to all that identify as a woman). \n1:1 Reiki | Guided Breathing & Somatic Movement | Rest \nAn evening to soften. To exhale. To return to yourself. \nGuided by Katie Marsh — Reiki and certified breathwork practitioner with 20 years of mental health counseling experience — this immersive gathering weaves together gentle somatic movement\, intentional breath\, meditative rest\, and 1:1 Reiki. \nThe evening closes with an oracle card reading and reflective share circle. \nLeave replenished\, grounded and ready for the weekend.
URL:https://embodieddirections.com/event/sacred-rest/
LOCATION:Embodied Directions Wellness Sanctuary\, 5 Hanson St.\, Dover\, NH\, 03820\, United States
CATEGORIES:Event
ATTACH;FMTTYPE=image/png:https://assets.simard.solutions/embodieddirections.com/2026/02/sacred-rest.png
END:VEVENT
END:VCALENDAR