BEGIN:VCALENDAR
VERSION:2.0
PRODID:-//Embodied Directions - ECPv6.15.17.1//NONSGML v1.0//EN
CALSCALE:GREGORIAN
METHOD:PUBLISH
X-WR-CALNAME:Embodied Directions
X-ORIGINAL-URL:https://embodieddirections.com
X-WR-CALDESC:Events for Embodied Directions
REFRESH-INTERVAL;VALUE=DURATION:PT1H
X-Robots-Tag:noindex
X-PUBLISHED-TTL:PT1H
BEGIN:VTIMEZONE
TZID:America/New_York
BEGIN:DAYLIGHT
TZOFFSETFROM:-0500
TZOFFSETTO:-0400
TZNAME:EDT
DTSTART:20240310T070000
END:DAYLIGHT
BEGIN:STANDARD
TZOFFSETFROM:-0400
TZOFFSETTO:-0500
TZNAME:EST
DTSTART:20241103T060000
END:STANDARD
BEGIN:DAYLIGHT
TZOFFSETFROM:-0500
TZOFFSETTO:-0400
TZNAME:EDT
DTSTART:20250309T070000
END:DAYLIGHT
BEGIN:STANDARD
TZOFFSETFROM:-0400
TZOFFSETTO:-0500
TZNAME:EST
DTSTART:20251102T060000
END:STANDARD
BEGIN:DAYLIGHT
TZOFFSETFROM:-0500
TZOFFSETTO:-0400
TZNAME:EDT
DTSTART:20260308T070000
END:DAYLIGHT
BEGIN:STANDARD
TZOFFSETFROM:-0400
TZOFFSETTO:-0500
TZNAME:EST
DTSTART:20261101T060000
END:STANDARD
END:VTIMEZONE
BEGIN:VEVENT
DTSTART;TZID=America/New_York:20251010T180000
DTEND;TZID=America/New_York:20251010T200000
DTSTAMP:20260421T152734
CREATED:20250922T184121Z
LAST-MODIFIED:20251021T174929Z
UID:4836-1760119200-1760126400@embodieddirections.com
SUMMARY:Tea and Yoga for the Nervous System
DESCRIPTION:Join herbalist and yoga instructor Brenna Lilly for a 2 hour long offering. We will begin class slowly with a cup of hand-blended herbal tea and discuss how herbs can assist us in self-soothing. We will then ease into mindful movement (gentle and yin yoga) with opportunities for both stillness and flow. No herbalism or yoga experience required. \nBrenna Lilly is a community herbalist based in the New Hampshire Seacoast and the owner of Brisingamen Botanicals. She is a trained Sacred Gaian herbalist and 500-hour yoga instructor who emphasizes the importance of sacred body reconnection and from an inclusive\, affirmative\, trauma-conscious perspective.
URL:https://embodieddirections.com/event/tea-and-yoga-for-the-nervous-system/
LOCATION:Embodied Directions Wellness Sanctuary\, 5 Hanson St.\, Dover\, NH\, 03820\, United States
CATEGORIES:Workshop
END:VEVENT
BEGIN:VEVENT
DTSTART;TZID=America/New_York:20251017T180000
DTEND;TZID=America/New_York:20251017T200000
DTSTAMP:20260421T152734
CREATED:20250923T183315Z
LAST-MODIFIED:20251021T175028Z
UID:4854-1760724000-1760731200@embodieddirections.com
SUMMARY:Witches Broom Workshop
DESCRIPTION:Step into the season with creativity and a touch of magic. In this hands-on workshop\, you’ll craft your very own witches’ broom—an ancient symbol of cleansing\, protection\, and transformation. We’ll gather natural materials\, weave them together\, and infuse each broom with intention. \nWhether you hang it by your door\, place it on an altar\, or simply enjoy it as a seasonal decoration\, your broom will carry both beauty and meaning. \nNo experience necessary—just bring your curiosity and a willingness to play. All supplies are provided.
URL:https://embodieddirections.com/event/witches-broom-workshop/
LOCATION:Embodied Directions Wellness Sanctuary\, 5 Hanson St.\, Dover\, NH\, 03820\, United States
CATEGORIES:Workshop
ATTACH;FMTTYPE=image/png:https://assets.simard.solutions/embodieddirections.com/2025/09/witches-broom-worhsop.png
END:VEVENT
END:VCALENDAR