BEGIN:VCALENDAR
VERSION:2.0
PRODID:-//Embodied Directions - ECPv6.15.17.1//NONSGML v1.0//EN
CALSCALE:GREGORIAN
METHOD:PUBLISH
X-WR-CALNAME:Embodied Directions
X-ORIGINAL-URL:https://embodieddirections.com
X-WR-CALDESC:Events for Embodied Directions
REFRESH-INTERVAL;VALUE=DURATION:PT1H
X-Robots-Tag:noindex
X-PUBLISHED-TTL:PT1H
BEGIN:VTIMEZONE
TZID:America/New_York
BEGIN:DAYLIGHT
TZOFFSETFROM:-0500
TZOFFSETTO:-0400
TZNAME:EDT
DTSTART:20250309T070000
END:DAYLIGHT
BEGIN:STANDARD
TZOFFSETFROM:-0400
TZOFFSETTO:-0500
TZNAME:EST
DTSTART:20251102T060000
END:STANDARD
BEGIN:DAYLIGHT
TZOFFSETFROM:-0500
TZOFFSETTO:-0400
TZNAME:EDT
DTSTART:20260308T070000
END:DAYLIGHT
BEGIN:STANDARD
TZOFFSETFROM:-0400
TZOFFSETTO:-0500
TZNAME:EST
DTSTART:20261101T060000
END:STANDARD
BEGIN:DAYLIGHT
TZOFFSETFROM:-0500
TZOFFSETTO:-0400
TZNAME:EDT
DTSTART:20270314T070000
END:DAYLIGHT
BEGIN:STANDARD
TZOFFSETFROM:-0400
TZOFFSETTO:-0500
TZNAME:EST
DTSTART:20271107T060000
END:STANDARD
END:VTIMEZONE
BEGIN:VEVENT
DTSTART;TZID=America/New_York:20260505T180000
DTEND;TZID=America/New_York:20260505T200000
DTSTAMP:20260421T181932
CREATED:20260421T014541Z
LAST-MODIFIED:20260421T014541Z
UID:5165-1778004000-1778011200@embodieddirections.com
SUMMARY:Tending The Garden
DESCRIPTION:A restorative practice for emerging from winter. Honoring the transition from the darkness of winter to the cool light of spring\, this practice incorporates poetry from the natural world into a grounding restorative practice. Just as we tend to the garden in spring to make way for new growth\, this practice offers space to gently tend to the body and mind. \n*All proceeds donated to Reproductive Freedom Fund of New Hampshire.
URL:https://embodieddirections.com/event/tending-the-garden/
LOCATION:Embodied Directions Wellness Sanctuary\, 5 Hanson St.\, Dover\, NH\, 03820\, United States
CATEGORIES:Event
ATTACH;FMTTYPE=image/png:https://assets.simard.solutions/embodieddirections.com/2026/04/Poetry-and-Restorative-Yoga.png
END:VEVENT
END:VCALENDAR