BEGIN:VCALENDAR
VERSION:2.0
PRODID:-//Embodied Directions - ECPv6.15.17.1//NONSGML v1.0//EN
CALSCALE:GREGORIAN
METHOD:PUBLISH
X-WR-CALNAME:Embodied Directions
X-ORIGINAL-URL:https://embodieddirections.com
X-WR-CALDESC:Events for Embodied Directions
REFRESH-INTERVAL;VALUE=DURATION:PT1H
X-Robots-Tag:noindex
X-PUBLISHED-TTL:PT1H
BEGIN:VTIMEZONE
TZID:America/New_York
BEGIN:DAYLIGHT
TZOFFSETFROM:-0500
TZOFFSETTO:-0400
TZNAME:EDT
DTSTART:20240310T070000
END:DAYLIGHT
BEGIN:STANDARD
TZOFFSETFROM:-0400
TZOFFSETTO:-0500
TZNAME:EST
DTSTART:20241103T060000
END:STANDARD
BEGIN:DAYLIGHT
TZOFFSETFROM:-0500
TZOFFSETTO:-0400
TZNAME:EDT
DTSTART:20250309T070000
END:DAYLIGHT
BEGIN:STANDARD
TZOFFSETFROM:-0400
TZOFFSETTO:-0500
TZNAME:EST
DTSTART:20251102T060000
END:STANDARD
BEGIN:DAYLIGHT
TZOFFSETFROM:-0500
TZOFFSETTO:-0400
TZNAME:EDT
DTSTART:20260308T070000
END:DAYLIGHT
BEGIN:STANDARD
TZOFFSETFROM:-0400
TZOFFSETTO:-0500
TZNAME:EST
DTSTART:20261101T060000
END:STANDARD
END:VTIMEZONE
BEGIN:VEVENT
DTSTART;TZID=America/New_York:20250925T183000
DTEND;TZID=America/New_York:20250925T203000
DTSTAMP:20260421T180554
CREATED:20250923T182924Z
LAST-MODIFIED:20250923T183615Z
UID:4849-1758825000-1758832200@embodieddirections.com
SUMMARY:Earth Element AcuYoga Workshop
DESCRIPTION:Welcoming guests Annie Wagoner and Marielle Ceresa of Upright Acupuncture & Wellness for this special workshop! Join us for a deeply restorative AcuYoga experience that harmonizes the body\, mind\, and spirit through the wisdom of the Earth Element. This workshop blends the balancing power of acupuncture with the mindful movement and breath of yoga\, creating a space to reconnect with your center and cultivate inner stability. \nIn Traditional Chinese Medicine\, the Earth Element is associated with late summer\, digestion\, nourishment\, and the ability to feel grounded and supported. When in balance\, we experience clarity\, compassion\, and a steady sense of belonging. When out of balance\, we may feel worry\, fatigue\, or disconnection from ourselves. \nThis immersive session will guide you through gentle yoga postures\, breathwork\, and grounding practices\, followed by a restorative acupuncture treatment designed to nourish the digestive system\, calm the mind\, and bring the body back into harmony. \n✨ Benefits of this workshop may include:\nFeeling more centered and grounded\nSupport for healthy digestion\nCalming an overactive mind and easing worry\nCultivating stability and inner strength \nCome as you are—this workshop is suitable for all levels. Leave feeling nourished\, balanced\, and rooted in your own strength.
URL:https://embodieddirections.com/event/earth-element-acuyoga-workshop/
LOCATION:Embodied Directions Wellness Sanctuary\, 5 Hanson St.\, Dover\, NH\, 03820\, United States
CATEGORIES:Workshop
END:VEVENT
END:VCALENDAR